BEGIN:VCALENDAR
VERSION:2.0
PRODID:-//BOSSTIX - Event Espresso Version 3.1.37.3.P//NONSGML v1.0//EN
METHOD:PUBLISH
X-ORIGINAL-URL:https://bosstix.com.au/registration/?ee=121
X-WR-CALDESC:BOSSTIX
X-WR-TIMEZONE:Australia/Melbourne
BEGIN:VEVENT
DTSTAMP:20200225T143543
UID:4ggbqjpbetpi14sc2lu7oqq3a6-5e5493b31c1a20.87550367@https://bosstix.com.au/registration/?ee=121
ORGANIZER:MAILTO:help@bosstix.com.au
DTSTART:20200306T200000
DTEND:20200306T223000
STATUS:CONFIRMED
URL:https://bosstix.com.au/registration/?ee=121
SUMMARY:BallaRatCat Comedy - Friday March 6th
LOCATION:27 Lydiard St Ballarat, Victoria 3350 Australia
END:VEVENT
END:VCALENDAR
